BEGIN:VCALENDAR
PRODID:-//fullcourt Productions//NONSGML v1.0//EN
VERSION:2.0
X-WR-TIMEZONE:America/New_York
BEGIN:VEVENT
DTSTART:20221229T104500
DTEND:20221229T124500
DTSTAMP:20260424T190618
UID:17ed8abedc255908be746d245e50263a1762@motorcityroundball.com
CREATED:20260424T190618
DESCRIPTION:Detroit Country Day (B) vs. Rochester Adams (B) 10:45 AM, Game Completed
LOCATION:Ferndale HS
SUMMARY:Detroit Country Day (B) vs. Rochester Adams (B)
END:VEVENT
END:VCALENDAR
